BEGIN:VCALENDAR
VERSION:2.0
PRODID:-//Contratero//ES
CALSCALE:GREGORIAN
METHOD:PUBLISH
BEGIN:VEVENT
UID:FMV/ST/NO SARA P. NEG. 05/2023.@contratero.es
DTSTAMP:20260420T114411Z
DTSTART:20230426T235959
DTEND:20230427T005959
SUMMARY:Cierre: Contratación del servicio de mantenimiento del "so
DESCRIPTION:Contratación del servicio de mantenimiento del "software de gestión de expedientes tutelares FUNDAGEST" para el Servicio Tutelar de la Fundación Marqués de Valdecilla\, Medio Propio\, FMV/ST/NO SARA P. ...\\n\\nOrganismo: Gerencia de la Fundación Marqués de Valdecilla\\n\\nVer en Contratero: https://contratero.es/contracts/FMV/ST/NO SARA P. NEG. 05/2023.
URL:https://contratero.es/contracts/FMV/ST/NO SARA P. NEG. 05/2023.
STATUS:CONFIRMED
BEGIN:VALARM
TRIGGER:-P1D
ACTION:DISPLAY
DESCRIPTION:Recordatorio: Contratación del servicio de m
END:VALARM
END:VEVENT
END:VCALENDAR